BEGIN:VCALENDAR
VERSION:2.0
PRODID:-//ChamberMaster//Event Calendar 2.0//EN
METHOD:PUBLISH
X-PUBLISHED-TTL:P1H
REFRESH-INTERVAL:P1H
CALSCALE:GREGORIAN
BEGIN:VTIMEZONE
TZID:America/New_York
BEGIN:DAYLIGHT
RRULE:FREQ=YEARLY;BYMONTH=3;BYDAY=2SU
DTSTART:20070101T000000
TZOFFSETFROM:-0500
TZOFFSETTO:-0400
TZNAME:Eastern Daylight Time
END:DAYLIGHT
BEGIN:STANDARD
RRULE:FREQ=YEARLY;BYMONTH=11;BYDAY=1SU
DTSTART:20070101T000000
TZOFFSETFROM:-0400
TZOFFSETTO:-0500
TZNAME:Eastern Standard Time
END:STANDARD
END:VTIMEZONE
BEGIN:VEVENT
DTSTART;TZID=America/New_York:20270311T143000
DTEND;TZID=America/New_York:20270311T153000
X-MICROSOFT-CDO-ALLDAYEVENT:FALSE
SUMMARY:CHCC Government Affairs Committee Meeting
DESCRIPTION:CHCC Government Affairs Committee Meeting\nThe Government Affairs Committee meets on the second Thursday of each month to address legislative and regulatory matters impacting Connecticut’s HVACR industry. This committee monitors proposed bills\, state agency actions\, and local ordinances\; develops CHCC’s policy positions\; and advocates for fair\, consistent\, and business-friendly regulations. Members work to ensure contractors’ voices are heard at the State Capitol and in municipal offices\, advancing policies that protect consumers\, promote workforce development\, and support the long-term success of our industry.
X-ALT-DESC;FMTTYPE=text/html:CHCC Government Affairs Committee Meeting\nThe Government Affairs Committee meets on the second Thursday of each month to address legislative and regulatory matters impacting Connecticut’s HVACR industry. This committee monitors proposed bills\, state agency actions\, and local ordinances\; develops CHCC’s policy positions\; and advocates for fair\, consistent\, and business-friendly regulations. Members work to ensure contractors’ voices are heard at the State Capitol and in municipal offices\, advancing policies that protect consumers\, promote workforce development\, and support the long-term success of our industry.
LOCATION:
UID:e.4285.1249348
SEQUENCE:3
DTSTAMP:20260425T134203Z
URL:https://members.chcca.net/event-calendar/Details/chcc-government-affairs-committee-meeting-1460664?sourceTypeId=Hub
END:VEVENT
END:VCALENDAR
