BEGIN:VCALENDAR
VERSION:2.0
PRODID:-//ChamberMaster//Event Calendar 2.0//EN
METHOD:PUBLISH
X-PUBLISHED-TTL:P1H
REFRESH-INTERVAL:P1H
CALSCALE:GREGORIAN
BEGIN:VTIMEZONE
TZID:America/New_York
BEGIN:DAYLIGHT
RRULE:FREQ=YEARLY;BYMONTH=3;BYDAY=2SU
DTSTART:20070101T000000
TZOFFSETFROM:-0500
TZOFFSETTO:-0400
TZNAME:Eastern Daylight Time
END:DAYLIGHT
BEGIN:STANDARD
RRULE:FREQ=YEARLY;BYMONTH=11;BYDAY=1SU
DTSTART:20070101T000000
TZOFFSETFROM:-0400
TZOFFSETTO:-0500
TZNAME:Eastern Standard Time
END:STANDARD
END:VTIMEZONE
BEGIN:VEVENT
DTSTART;TZID=America/New_York:20260509T080000
DTEND;TZID=America/New_York:20260509T160000
X-MICROSOFT-CDO-ALLDAYEVENT:FALSE
SUMMARY:📚 D/S License Prep Class - April
DESCRIPTION:** Postponed ** to Saturday\, May 9\, 2026D2 /S License Prep CourseLooking to get a final boost prior to taking the D or S exam? Join your industry colleagues for CHCC's D/S License Prep Course\, a review designed to help you achieve results. Coffee and Lunch Included. Instructor: Joe Pellecchia\nCHCC Members: Included with tiers ($299 additional) / Non-Members: $399.00Key TakeawaysBasic Science ReviewHeating - Steam & HydronicsElectrical ReviewCode Book NavigationAir DeliveryRefrigeration CycleOil & GasFollow Up Consultation With InstructorRequired BooksD LicenseIMC with TabsNFPA 54S License IMC with TabsNFPA 54NFPA 31Contractor License Exam (if taking a Contractor exam)Contractors Guide to Business\, Law and Project Management\, Connecticut\, 5th EditionInternational Mechanical Code or International Mechanical Code Commentary\, International Code Council Inc.\, 800-786-4452\, http://shop.iccsafe.orgNFPA 54: National Fuel Gas Code or National Fuel Gas Code Handbook\, 2012\, National Fire Protection Association\, 1 Batterymarch Park\, Quincy\, MA 02169\, (800) 344-3555\, www.nfpa.orgNFPA 31: Standard for the Installation of Oil-Burning Equipment. (2006 or 2011). National Fire Protection Association\, 1 Batterymarch Park\, Quincy\, MA 02169\, (800) 344-3555\, www.nfpa.orgCONTRACTOR BUSINESS BOOK: Contractors Guide to Business\, Law and Project Management\, Connecticut\, 5th Edition\, National Association of State Contractors Licensing Agencies (NASCLA)PSI BULLETIN DETAILS
X-ALT-DESC;FMTTYPE=text/html:<!DOCTYPE html><html><head><title></title></head><body aria-disabled="false"><p>** Postponed ** to Saturday\, May 9\, 2026</p><h3 align="center">D2 /S License Prep Course</h3><p>Looking to get a final boost prior to taking the D or S exam? Join your industry colleagues for CHCC&#39\;s D/S License Prep Course\, a review designed to help you achieve results. Coffee and Lunch Included.&nbsp\;</p><p><strong fr-original-style="" style="font-weight: 700\;">Instructor:</strong> Joe Pellecchia<br><strong fr-original-style="" style="font-weight: 700\;">CHCC Members:</strong> Included with tiers ($299 additional) / <strong fr-original-style="" style="font-weight: 700\;">Non-Members:</strong>&nbsp\;$399.00</p><hr fr-original-style="" style="clear: both\; user-select: none\; break-after: page\;"><h4>Key Takeaways</h4><ul fr-original-style="" style="list-style-position: inside\;"><li>Basic Science Review</li><li>Heating - Steam &amp\; Hydronics</li><li>Electrical Review</li><li>Code Book Navigation</li><li>Air Delivery</li><li>Refrigeration Cycle</li><li>Oil &amp\; Gas</li><li>Follow Up Consultation With Instructor</li></ul><hr fr-original-style="" style="clear: both\; user-select: none\; break-after: page\;"><h4>Required Books</h4><h5>D License</h5><ul fr-original-style="" style="list-style-position: inside\;"><li>IMC with Tabs</li><li>NFPA 54</li></ul><h5>S License&nbsp\;</h5><ul fr-original-style="" style="list-style-position: inside\;"><li>IMC with Tabs</li><li>NFPA 54</li><li>NFPA 31</li></ul><h5>Contractor License Exam (if taking a Contractor exam)</h5><ul fr-original-style="" style="list-style-position: inside\;"><li>Contractors Guide to Business\, Law and Project Management\, Connecticut\, 5th Edition</li></ul><div title="Page 15"><p>International Mechanical Code or International Mechanical Code Commentary\, International Code Council Inc.\, 800-786-4452\, http://shop.iccsafe.org</p><p>NFPA 54: National Fuel Gas Code or National Fuel Gas Code Handbook\, 2012\, National Fire Protection Association\, 1 Batterymarch Park\, Quincy\, MA 02169\, (800) 344-3555\, www.nfpa.org</p><p>NFPA 31: Standard for the Installation of Oil-Burning Equipment. (2006 or 2011). National Fire Protection Association\, 1 Batterymarch Park\, Quincy\, MA 02169\, (800) 344-3555\, www.nfpa.org</p><p>CONTRACTOR BUSINESS BOOK: Contractors Guide to Business\, Law and Project Management\, Connecticut\, 5th Edition\, National Association of State Contractors Licensing Agencies (NASCLA)</p></div><p><a fr-original-style="" href="https://candidate.psiexams.com/bulletin/display_bulletin.jsp?ro=yes&actionname=83&bulletinid=59&bulletinurl=.pdf" rel="noopener noreferrer" style="user-select: auto\;" target="_blank">PSI BULLETIN DETAILS</a></p></body></html>
LOCATION:4 Sebethe Drive Cromwell 06416
UID:e.4285.1412526
SEQUENCE:3
DTSTAMP:20260425T134205Z
URL:https://members.chcca.net/event-calendar/Details/d-s-license-prep-class-april-1669294?sourceTypeId=Hub
END:VEVENT
END:VCALENDAR
